BEGIN:VCALENDAR
VERSION:2.0
PRODID:-//wp-events-plugin.com//7.2.3.1//EN
BEGIN:VEVENT
UID:70@bregmanconsulting.com
DTSTART:20210918T080000Z
DTEND:20210918T110000Z
DTSTAMP:20210811T183648Z
URL:https://www.bregmanconsulting.com/calendar/new-patient-to-long-term-pa
 tient-in-4-steps-to-success-in-the-21st-century/
SUMMARY:New Patient to Long Term Patient in 4 Steps to Success in the 21st 
 Century
DESCRIPTION:92nd  Georgia Dental Hygienists' Association Annual Session
CATEGORIES:Speaking
LOCATION:Sonesta Hotel\, 6345 Powers Ferry Rd\, Atlanta\, GA\, 30339-2928\,
  United States
X-APPLE-STRUCTURED-LOCATION;VALUE=URI;X-ADDRESS=6345 Powers Ferry Rd\, Atla
 nta\, GA\, 30339-2928\, United States;X-APPLE-RADIUS=100;X-TITLE=Sonesta H
 otel:geo:0,0
END:VEVENT
END:VCALENDAR